Package: goSorensen Version: 1.10.0 Command: /Library/Frameworks/R.framework/Resources/bin/R CMD build --keep-empty-dirs --no-resave-data goSorensen StartedAt: 2025-09-29 19:27:10 -0400 (Mon, 29 Sep 2025) EndedAt: 2025-09-29 19:36:00 -0400 (Mon, 29 Sep 2025) EllapsedTime: 530.0 seconds RetCode: 0 Status: OK PackageFile: goSorensen_1.10.0.tar.gz PackageFileSize: 933.7 KiB