Package: goProfiles Version: 1.70.0 Command: rm -rf goProfiles.buildbin-libdir && mkdir goProfiles.buildbin-libdir && E:\biocbuild\bbs-3.21-bioc\R\bin\R.exe CMD INSTALL --build --library=goProfiles.buildbin-libdir goProfiles_1.70.0.tar.gz StartedAt: 2025-08-15 09:25:28 -0400 (Fri, 15 Aug 2025) EndedAt: 2025-08-15 09:26:25 -0400 (Fri, 15 Aug 2025) EllapsedTime: 56.5 seconds RetCode: 0 Status: OK PackageFile: goProfiles_1.70.0.zip PackageFileSize: 509.5 KiB