Package: goProfiles Version: 1.70.0 Command: /Library/Frameworks/R.framework/Resources/bin/R CMD INSTALL goProfiles StartedAt: 2025-10-13 16:23:26 -0400 (Mon, 13 Oct 2025) EndedAt: 2025-10-13 16:23:59 -0400 (Mon, 13 Oct 2025) EllapsedTime: 33.0 seconds RetCode: 0 Status: OK