Package: gmoviz Version: 1.20.0 Command: rm -rf gmoviz.buildbin-libdir && mkdir gmoviz.buildbin-libdir && /Users/biocbuild/BBS/utils/build-universal.sh gmoviz_1.20.0.tar.gz /Library/Frameworks/R.framework/Resources/bin/R gmoviz.buildbin-libdir StartedAt: 2025-10-15 18:44:34 -0400 (Wed, 15 Oct 2025) EndedAt: 2025-10-15 18:45:21 -0400 (Wed, 15 Oct 2025) EllapsedTime: 47.8 seconds RetCode: 0 Status: OK PackageFile: gmoviz_1.20.0.tgz PackageFileSize: 6.729 MiB