Package: gmapR Version: 1.50.0 Command: /Library/Frameworks/R.framework/Resources/bin/R CMD check --install=check:gmapR.install-out.txt --library=/Library/Frameworks/R.framework/Resources/library --no-vignettes --timings gmapR_1.50.0.tar.gz StartedAt: 2025-10-14 04:38:18 -0400 (Tue, 14 Oct 2025) EndedAt: 2025-10-14 04:51:30 -0400 (Tue, 14 Oct 2025) EllapsedTime: 792.4 seconds RetCode: 0 Status: WARNINGS CheckDir: gmapR.Rcheck Warnings: 7