Package: glmGamPoi Version: 1.20.0 Command: /Library/Frameworks/R.framework/Resources/bin/R CMD check --install=check:glmGamPoi.install-out.txt --library=/Library/Frameworks/R.framework/Resources/library --no-vignettes --timings glmGamPoi_1.20.0.tar.gz StartedAt: 2025-10-14 04:37:23 -0400 (Tue, 14 Oct 2025) EndedAt: 2025-10-14 04:44:49 -0400 (Tue, 14 Oct 2025) EllapsedTime: 445.3 seconds RetCode: 0 Status: WARNINGS CheckDir: glmGamPoi.Rcheck Warnings: 1