Package: girafe Version: 1.60.0 Command: /home/biocbuild/bbs-3.21-bioc/R/bin/R CMD check --install=check:girafe.install-out.txt --library=/home/biocbuild/bbs-3.21-bioc/R/site-library --timings girafe_1.60.0.tar.gz StartedAt: 2025-10-15 23:44:29 -0400 (Wed, 15 Oct 2025) EndedAt: 2025-10-15 23:48:53 -0400 (Wed, 15 Oct 2025) EllapsedTime: 264.4 seconds RetCode: 0 Status: OK CheckDir: girafe.Rcheck Warnings: 0