Package: girafe Version: 1.60.0 Maintainer: J. Toedling MaintainerEmail: jtoedling at yahoo.de git_url: https://git.bioconductor.org/packages/girafe git_branch: RELEASE_3_21 git_last_commit: 1e8b0ed git_last_commit_date: 2025-04-15 09:47:06 -0400 (Tue, 15 Apr 2025)