Package: ginmappeR Version: 1.4.0 Command: /Library/Frameworks/R.framework/Resources/bin/R CMD INSTALL ginmappeR StartedAt: 2025-10-13 15:58:22 -0400 (Mon, 13 Oct 2025) EndedAt: 2025-10-13 15:58:58 -0400 (Mon, 13 Oct 2025) EllapsedTime: 35.9 seconds RetCode: 0 Status: OK