Package: ginmappeR Version: 1.4.0 Command: /Library/Frameworks/R.framework/Resources/bin/R CMD build --keep-empty-dirs --no-resave-data ginmappeR StartedAt: 2025-10-13 19:24:20 -0400 (Mon, 13 Oct 2025) EndedAt: 2025-10-13 19:26:45 -0400 (Mon, 13 Oct 2025) EllapsedTime: 145.3 seconds RetCode: 0 Status: OK PackageFile: ginmappeR_1.4.0.tar.gz PackageFileSize: 674.1 KiB