Package: ginmappeR Version: 1.4.0 Command: rm -rf ginmappeR.buildbin-libdir && mkdir ginmappeR.buildbin-libdir && /Users/biocbuild/BBS/utils/build-universal.sh ginmappeR_1.4.0.tar.gz /Library/Frameworks/R.framework/Resources/bin/R ginmappeR.buildbin-libdir StartedAt: 2025-10-14 13:36:40 -0400 (Tue, 14 Oct 2025) EndedAt: 2025-10-14 13:37:35 -0400 (Tue, 14 Oct 2025) EllapsedTime: 55.5 seconds RetCode: 0 Status: OK PackageFile: ginmappeR_1.4.0.tgz PackageFileSize: 673.5 KiB