Package: ggtreeSpace Version: 1.4.0 Command: E:\biocbuild\bbs-3.21-bioc\R\bin\R.exe CMD check --no-multiarch --install=check:ggtreeSpace.install-out.txt --library=E:\biocbuild\bbs-3.21-bioc\R\library --no-vignettes --timings ggtreeSpace_1.4.0.tar.gz StartedAt: 2025-08-15 02:43:59 -0400 (Fri, 15 Aug 2025) EndedAt: 2025-08-15 02:45:40 -0400 (Fri, 15 Aug 2025) EllapsedTime: 100.6 seconds RetCode: 0 Status: WARNINGS CheckDir: ggtreeSpace.Rcheck Warnings: 1