Package: ggtreeSpace Version: 1.4.0 Command: rm -rf ggtreeSpace.buildbin-libdir && mkdir ggtreeSpace.buildbin-libdir && E:\biocbuild\bbs-3.21-bioc\R\bin\R.exe CMD INSTALL --build --library=ggtreeSpace.buildbin-libdir ggtreeSpace_1.4.0.tar.gz StartedAt: 2025-08-15 09:24:20 -0400 (Fri, 15 Aug 2025) EndedAt: 2025-08-15 09:24:45 -0400 (Fri, 15 Aug 2025) EllapsedTime: 25.0 seconds RetCode: 0 Status: OK PackageFile: ggtreeSpace_1.4.0.zip PackageFileSize: 343.4 KiB