Package: ggtreeSpace Version: 1.4.0 Command: /Library/Frameworks/R.framework/Resources/bin/R CMD INSTALL ggtreeSpace StartedAt: 2025-10-13 15:18:53 -0400 (Mon, 13 Oct 2025) EndedAt: 2025-10-13 15:19:19 -0400 (Mon, 13 Oct 2025) EllapsedTime: 25.4 seconds RetCode: 0 Status: OK