Package: ggtreeExtra Version: 1.18.0 Command: chmod a+r ggtreeExtra -R && E:\biocbuild\bbs-3.21-bioc\R\bin\R.exe CMD build --keep-empty-dirs --no-resave-data ggtreeExtra StartedAt: 2025-08-14 19:26:14 -0400 (Thu, 14 Aug 2025) EndedAt: 2025-08-14 19:26:48 -0400 (Thu, 14 Aug 2025) EllapsedTime: 34.4 seconds RetCode: 0 Status: OK PackageFile: ggtreeExtra_1.18.0.tar.gz PackageFileSize: 200.2 KiB