Package: ggtreeExtra Version: 1.18.0 Command: rm -rf ggtreeExtra.buildbin-libdir && mkdir ggtreeExtra.buildbin-libdir && E:\biocbuild\bbs-3.21-bioc\R\bin\R.exe CMD INSTALL --build --library=ggtreeExtra.buildbin-libdir ggtreeExtra_1.18.0.tar.gz StartedAt: 2025-08-15 09:24:17 -0400 (Fri, 15 Aug 2025) EndedAt: 2025-08-15 09:24:49 -0400 (Fri, 15 Aug 2025) EllapsedTime: 31.9 seconds RetCode: 0 Status: OK PackageFile: ggtreeExtra_1.18.0.zip PackageFileSize: 333.4 KiB