Package: ggtreeDendro Version: 1.10.0 Command: E:\biocbuild\bbs-3.21-bioc\R\bin\R.exe CMD INSTALL ggtreeDendro StartedAt: 2025-08-14 15:33:23 -0400 (Thu, 14 Aug 2025) EndedAt: 2025-08-14 15:33:42 -0400 (Thu, 14 Aug 2025) EllapsedTime: 18.1 seconds RetCode: 0 Status: OK