Package: ggtreeDendro Version: 1.10.0 Command: rm -rf ggtreeDendro.buildbin-libdir && mkdir ggtreeDendro.buildbin-libdir && E:\biocbuild\bbs-3.21-bioc\R\bin\R.exe CMD INSTALL --build --library=ggtreeDendro.buildbin-libdir ggtreeDendro_1.10.0.tar.gz StartedAt: 2025-08-15 09:24:08 -0400 (Fri, 15 Aug 2025) EndedAt: 2025-08-15 09:24:25 -0400 (Fri, 15 Aug 2025) EllapsedTime: 16.5 seconds RetCode: 0 Status: OK PackageFile: ggtreeDendro_1.10.0.zip PackageFileSize: 176.3 KiB