Package: ggtreeDendro Version: 1.10.0 Command: /home/biocbuild/bbs-3.21-bioc/R/bin/R CMD INSTALL ggtreeDendro StartedAt: 2025-10-15 15:09:51 -0400 (Wed, 15 Oct 2025) EndedAt: 2025-10-15 15:09:57 -0400 (Wed, 15 Oct 2025) EllapsedTime: 5.8 seconds RetCode: 0 Status: OK