Package: ggtreeDendro Version: 1.10.0 Command: /home/biocbuild/bbs-3.21-bioc/R/bin/R CMD check --install=check:ggtreeDendro.install-out.txt --library=/home/biocbuild/bbs-3.21-bioc/R/site-library --timings ggtreeDendro_1.10.0.tar.gz StartedAt: 2025-10-15 23:43:35 -0400 (Wed, 15 Oct 2025) EndedAt: 2025-10-15 23:44:31 -0400 (Wed, 15 Oct 2025) EllapsedTime: 56.1 seconds RetCode: 0 Status: WARNINGS CheckDir: ggtreeDendro.Rcheck Warnings: 2