Package: ggtreeDendro Version: 1.10.0 Command: /home/biocbuild/bbs-3.21-bioc/R/bin/R CMD build --keep-empty-dirs --no-resave-data ggtreeDendro StartedAt: 2025-10-15 17:44:48 -0400 (Wed, 15 Oct 2025) EndedAt: 2025-10-15 17:45:04 -0400 (Wed, 15 Oct 2025) EllapsedTime: 16.0 seconds RetCode: 0 Status: OK PackageFile: ggtreeDendro_1.10.0.tar.gz PackageFileSize: 426.3 KiB