Package: ggtreeDendro Version: 1.10.0 Command: /home/biocbuild/R/R/bin/R CMD check --install=check:ggtreeDendro.install-out.txt --library=/home/biocbuild/R/R/site-library --no-vignettes --timings ggtreeDendro_1.10.0.tar.gz StartedAt: 2025-10-14 09:42:50 -0000 (Tue, 14 Oct 2025) EndedAt: 2025-10-14 09:44:04 -0000 (Tue, 14 Oct 2025) EllapsedTime: 74.1 seconds RetCode: 0 Status: WARNINGS CheckDir: ggtreeDendro.Rcheck Warnings: 2