Package: ggspavis Version: 1.14.3 Command: rm -rf ggspavis.buildbin-libdir && mkdir ggspavis.buildbin-libdir && E:\biocbuild\bbs-3.21-bioc\R\bin\R.exe CMD INSTALL --build --library=ggspavis.buildbin-libdir ggspavis_1.14.3.tar.gz StartedAt: 2025-08-15 09:24:05 -0400 (Fri, 15 Aug 2025) EndedAt: 2025-08-15 09:24:37 -0400 (Fri, 15 Aug 2025) EllapsedTime: 32.4 seconds RetCode: 0 Status: OK PackageFile: ggspavis_1.14.3.zip PackageFileSize: 2.977 MiB