Package: ggspavis Version: 1.14.3 Command: /home/biocbuild/bbs-3.21-bioc/R/bin/R CMD INSTALL ggspavis StartedAt: 2025-10-15 15:23:48 -0400 (Wed, 15 Oct 2025) EndedAt: 2025-10-15 15:24:13 -0400 (Wed, 15 Oct 2025) EllapsedTime: 25.4 seconds RetCode: 0 Status: OK