Package: ggspavis Version: 1.14.3 Command: /Library/Frameworks/R.framework/Resources/bin/R CMD check --install=check:ggspavis.install-out.txt --library=/Library/Frameworks/R.framework/Resources/library --no-vignettes --timings ggspavis_1.14.3.tar.gz StartedAt: 2025-10-14 04:34:20 -0400 (Tue, 14 Oct 2025) EndedAt: 2025-10-14 04:43:16 -0400 (Tue, 14 Oct 2025) EllapsedTime: 536.1 seconds RetCode: 0 Status: OK CheckDir: ggspavis.Rcheck Warnings: 0