Package: ggspavis Version: 1.14.0 Command: /Library/Frameworks/R.framework/Resources/bin/R CMD INSTALL ggspavis StartedAt: 2025-04-21 15:23:57 -0400 (Mon, 21 Apr 2025) EndedAt: 2025-04-21 15:24:32 -0400 (Mon, 21 Apr 2025) EllapsedTime: 35.0 seconds RetCode: 0 Status: OK