Package: ggspavis Version: 1.14.3 Command: /home/biocbuild/R/R/bin/R CMD build --keep-empty-dirs --no-resave-data ggspavis StartedAt: 2025-10-07 01:17:11 -0000 (Tue, 07 Oct 2025) EndedAt: 2025-10-07 01:19:26 -0000 (Tue, 07 Oct 2025) EllapsedTime: 135.1 seconds RetCode: 0 Status: OK PackageFile: ggspavis_1.14.3.tar.gz PackageFileSize: 5.977 MiB