Package: ggspavis Version: 1.14.0 Command: /Library/Frameworks/R.framework/Resources/bin/R CMD check --install=check:ggspavis.install-out.txt --library=/Library/Frameworks/R.framework/Resources/library --no-vignettes --timings ggspavis_1.14.0.tar.gz StartedAt: 2025-04-21 19:38:24 -0400 (Mon, 21 Apr 2025) EndedAt: 2025-04-21 19:40:05 -0400 (Mon, 21 Apr 2025) EllapsedTime: 101.2 seconds RetCode: 0 Status: OK CheckDir: ggspavis.Rcheck Warnings: 0