Package: ggsc Version: 1.6.1 Command: E:\biocbuild\bbs-3.21-bioc\R\bin\R.exe CMD check --no-multiarch --install=check:ggsc.install-out.txt --library=E:\biocbuild\bbs-3.21-bioc\R\library --no-vignettes --timings ggsc_1.6.1.tar.gz StartedAt: 2025-08-15 02:42:02 -0400 (Fri, 15 Aug 2025) EndedAt: 2025-08-15 02:48:47 -0400 (Fri, 15 Aug 2025) EllapsedTime: 404.9 seconds RetCode: 0 Status: OK CheckDir: ggsc.Rcheck Warnings: 0