Package: ggsc Version: 1.6.1 Command: /Library/Frameworks/R.framework/Resources/bin/R CMD check --install=check:ggsc.install-out.txt --library=/Library/Frameworks/R.framework/Resources/library --no-vignettes --timings ggsc_1.6.1.tar.gz StartedAt: 2025-10-14 23:15:12 -0400 (Tue, 14 Oct 2025) EndedAt: 2025-10-14 23:21:34 -0400 (Tue, 14 Oct 2025) EllapsedTime: 382.4 seconds RetCode: 0 Status: OK CheckDir: ggsc.Rcheck Warnings: 0