Package: ggmsa Version: 1.14.0 Command: /home/biocbuild/R/R/bin/R CMD check --install=check:ggmsa.install-out.txt --library=/home/biocbuild/R/R/site-library --no-vignettes --timings ggmsa_1.14.0.tar.gz StartedAt: 2025-06-13 09:59:35 -0000 (Fri, 13 Jun 2025) EndedAt: 2025-06-13 10:02:10 -0000 (Fri, 13 Jun 2025) EllapsedTime: 155.1 seconds RetCode: 0 Status: OK CheckDir: ggmsa.Rcheck Warnings: 0