Package: ggkegg Version: 1.6.0 Command: chmod a+r ggkegg -R && E:\biocbuild\bbs-3.21-bioc\R\bin\R.exe CMD build --keep-empty-dirs --no-resave-data ggkegg StartedAt: 2025-08-14 19:24:54 -0400 (Thu, 14 Aug 2025) EndedAt: 2025-08-14 19:25:36 -0400 (Thu, 14 Aug 2025) EllapsedTime: 42.0 seconds RetCode: 1 Status: ERROR PackageFile: None PackageFileSize: NA