Package: ggkegg Version: 1.6.2 Command: /Library/Frameworks/R.framework/Resources/bin/R CMD check --install=check:ggkegg.install-out.txt --library=/Library/Frameworks/R.framework/Resources/library --no-vignettes --timings ggkegg_1.6.2.tar.gz StartedAt: 2025-10-14 04:30:30 -0400 (Tue, 14 Oct 2025) EndedAt: 2025-10-14 04:34:20 -0400 (Tue, 14 Oct 2025) EllapsedTime: 230.2 seconds RetCode: 0 Status: OK CheckDir: ggkegg.Rcheck Warnings: 0