Package: ggkegg Version: 1.6.2 Command: rm -rf ggkegg.buildbin-libdir && mkdir ggkegg.buildbin-libdir && /Users/biocbuild/BBS/utils/build-universal.sh ggkegg_1.6.2.tar.gz /Library/Frameworks/R.framework/Resources/bin/R ggkegg.buildbin-libdir StartedAt: 2025-10-14 13:35:43 -0400 (Tue, 14 Oct 2025) EndedAt: 2025-10-14 13:36:28 -0400 (Tue, 14 Oct 2025) EllapsedTime: 44.8 seconds RetCode: 0 Status: OK PackageFile: ggkegg_1.6.2.tgz PackageFileSize: 3.848 MiB