Package: ggkegg Version: 1.6.1 Command: /home/biocbuild/R/R/bin/R CMD INSTALL ggkegg StartedAt: 2025-10-02 20:21:34 -0000 (Thu, 02 Oct 2025) EndedAt: 2025-10-02 20:21:57 -0000 (Thu, 02 Oct 2025) EllapsedTime: 23.3 seconds RetCode: 0 Status: OK