Package: ggkegg Version: 1.6.0 Command: rm -rf ggkegg.buildbin-libdir && mkdir ggkegg.buildbin-libdir && /Users/biocbuild/BBS/utils/build-universal.sh ggkegg_1.6.0.tar.gz /Library/Frameworks/R.framework/Resources/bin/R ggkegg.buildbin-libdir StartedAt: 2025-04-21 22:36:53 -0400 (Mon, 21 Apr 2025) EndedAt: 2025-04-21 22:36:58 -0400 (Mon, 21 Apr 2025) EllapsedTime: 5.1 seconds RetCode: 0 Status: OK PackageFile: ggkegg_1.6.0.tgz PackageFileSize: 3.806 MiB