Package: ggcyto Version: 1.36.1 Command: /home/biocbuild/bbs-3.21-bioc/R/bin/R CMD INSTALL ggcyto StartedAt: 2025-10-15 15:32:39 -0400 (Wed, 15 Oct 2025) EndedAt: 2025-10-15 15:32:56 -0400 (Wed, 15 Oct 2025) EllapsedTime: 17.1 seconds RetCode: 0 Status: OK