Package: ggcyto Version: 1.36.1 Command: /home/biocbuild/bbs-3.21-bioc/R/bin/R CMD check --install=check:ggcyto.install-out.txt --library=/home/biocbuild/bbs-3.21-bioc/R/site-library --timings ggcyto_1.36.1.tar.gz StartedAt: 2025-10-15 23:41:31 -0400 (Wed, 15 Oct 2025) EndedAt: 2025-10-15 23:46:01 -0400 (Wed, 15 Oct 2025) EllapsedTime: 270.5 seconds RetCode: 0 Status: WARNINGS CheckDir: ggcyto.Rcheck Warnings: 2