Package: gg4way Version: 1.6.1 Command: E:\biocbuild\bbs-3.21-bioc\R\bin\R.exe CMD check --no-multiarch --install=check:gg4way.install-out.txt --library=E:\biocbuild\bbs-3.21-bioc\R\library --no-vignettes --timings gg4way_1.6.1.tar.gz StartedAt: 2025-08-15 02:40:26 -0400 (Fri, 15 Aug 2025) EndedAt: 2025-08-15 02:44:19 -0400 (Fri, 15 Aug 2025) EllapsedTime: 233.1 seconds RetCode: 0 Status: OK CheckDir: gg4way.Rcheck Warnings: 0