Package: gg4way Version: 1.6.0 Command: /Library/Frameworks/R.framework/Resources/bin/R CMD INSTALL gg4way StartedAt: 2025-04-21 15:21:26 -0400 (Mon, 21 Apr 2025) EndedAt: 2025-04-21 15:22:02 -0400 (Mon, 21 Apr 2025) EllapsedTime: 35.8 seconds RetCode: 0 Status: OK