Package: geyser Version: 1.0.0 Command: E:\biocbuild\bbs-3.21-bioc\R\bin\R.exe CMD check --no-multiarch --install=check:geyser.install-out.txt --library=E:\biocbuild\bbs-3.21-bioc\R\library --no-vignettes --timings geyser_1.0.0.tar.gz StartedAt: 2025-08-15 02:40:16 -0400 (Fri, 15 Aug 2025) EndedAt: 2025-08-15 02:43:53 -0400 (Fri, 15 Aug 2025) EllapsedTime: 216.4 seconds RetCode: 0 Status: OK CheckDir: geyser.Rcheck Warnings: 0