Package: geyser Version: 1.0.0 Command: /home/biocbuild/bbs-3.21-bioc/R/bin/R CMD build --keep-empty-dirs --no-resave-data geyser StartedAt: 2025-10-15 17:43:22 -0400 (Wed, 15 Oct 2025) EndedAt: 2025-10-15 17:44:00 -0400 (Wed, 15 Oct 2025) EllapsedTime: 38.0 seconds RetCode: 0 Status: OK PackageFile: geyser_1.0.0.tar.gz PackageFileSize: 2.279 MiB