Package: geyser Version: 1.0.0 Command: /Library/Frameworks/R.framework/Resources/bin/R CMD build --keep-empty-dirs --no-resave-data geyser StartedAt: 2025-10-14 01:10:02 -0400 (Tue, 14 Oct 2025) EndedAt: 2025-10-14 01:10:52 -0400 (Tue, 14 Oct 2025) EllapsedTime: 50.3 seconds RetCode: 0 Status: OK PackageFile: geyser_1.0.0.tar.gz PackageFileSize: 2.279 MiB