Package: geyser Version: 1.0.0 Command: rm -rf geyser.buildbin-libdir && mkdir geyser.buildbin-libdir && /Users/biocbuild/BBS/utils/build-universal.sh geyser_1.0.0.tar.gz /Library/Frameworks/R.framework/Resources/bin/R geyser.buildbin-libdir StartedAt: 2025-10-15 18:42:21 -0400 (Wed, 15 Oct 2025) EndedAt: 2025-10-15 18:42:56 -0400 (Wed, 15 Oct 2025) EllapsedTime: 34.3 seconds RetCode: 0 Status: OK PackageFile: geyser_1.0.0.tgz PackageFileSize: 1.323 MiB