Package: geva Version: 1.16.0 Command: /Library/Frameworks/R.framework/Resources/bin/R CMD INSTALL geva StartedAt: 2025-10-13 15:12:48 -0400 (Mon, 13 Oct 2025) EndedAt: 2025-10-13 15:13:42 -0400 (Mon, 13 Oct 2025) EllapsedTime: 54.6 seconds RetCode: 0 Status: OK