Package: getDEE2 Version: 1.18.0 Command: chmod a+r getDEE2 -R && E:\biocbuild\bbs-3.21-bioc\R\bin\R.exe CMD build --keep-empty-dirs --no-resave-data getDEE2 StartedAt: 2025-08-14 19:24:24 -0400 (Thu, 14 Aug 2025) EndedAt: 2025-08-14 19:25:44 -0400 (Thu, 14 Aug 2025) EllapsedTime: 79.5 seconds RetCode: 0 Status: OK PackageFile: getDEE2_1.18.0.tar.gz PackageFileSize: 22.05 KiB