Package: getDEE2 Version: 1.18.0 Command: rm -rf getDEE2.buildbin-libdir && mkdir getDEE2.buildbin-libdir && E:\biocbuild\bbs-3.21-bioc\R\bin\R.exe CMD INSTALL --build --library=getDEE2.buildbin-libdir getDEE2_1.18.0.tar.gz StartedAt: 2025-08-15 09:23:16 -0400 (Fri, 15 Aug 2025) EndedAt: 2025-08-15 09:23:42 -0400 (Fri, 15 Aug 2025) EllapsedTime: 25.7 seconds RetCode: 0 Status: OK PackageFile: getDEE2_1.18.0.zip PackageFileSize: 77.78 KiB