Package: getDEE2 Version: 1.18.0 Command: /Library/Frameworks/R.framework/Resources/bin/R CMD INSTALL getDEE2 StartedAt: 2025-10-13 15:33:14 -0400 (Mon, 13 Oct 2025) EndedAt: 2025-10-13 15:33:57 -0400 (Mon, 13 Oct 2025) EllapsedTime: 42.3 seconds RetCode: 0 Status: OK