Package: gep2pep Version: 1.28.0 Command: /home/biocbuild/bbs-3.21-bioc/R/bin/R CMD INSTALL gep2pep StartedAt: 2025-10-15 15:47:59 -0400 (Wed, 15 Oct 2025) EndedAt: 2025-10-15 15:48:16 -0400 (Wed, 15 Oct 2025) EllapsedTime: 16.8 seconds RetCode: 0 Status: OK