Package: gep2pep Version: 1.28.0 Command: /Library/Frameworks/R.framework/Resources/bin/R CMD build --keep-empty-dirs --no-resave-data gep2pep StartedAt: 2025-04-21 16:56:34 -0400 (Mon, 21 Apr 2025) EndedAt: 2025-04-21 16:57:06 -0400 (Mon, 21 Apr 2025) EllapsedTime: 31.8 seconds RetCode: 0 Status: OK PackageFile: gep2pep_1.28.0.tar.gz PackageFileSize: 121.8 KiB